BEGIN:VCALENDAR
PRODID:gcfv.georgia.gov
VERSION:2.0
CALSCALE:GREGORIAN
BEGIN:VEVENT
UID:d74c5cf040bf97d8136433fd117ecb13
DTSTAMP:20260424T235537Z
SUMMARY:FVIP Rule Update Committee Meeting
DESCRIPTION:Draft Agenda\n\n9:00 AM - Welcome and Updates\n\n9:20 AM - Subc
 ommittee Reports & Discussion\n\n\n\n​12:00 PM - Lunch\n\n12:30 PM - Dis
 cussion Continued & Next Steps​\n\nPlease call GCFV for more details: 40
 4-657-3412
URL:https://gcfv.georgia.gov/events/2017-02-13/fvip-rule-update-committee-m
 eeting
DTSTART;VALUE=DATE:20170213
DTEND;VALUE=DATE:20170214
X-LIC-LOCATION:America/New_York
X-WR-TIMEZONE:America/New_York
END:VEVENT
BEGIN:VTIMEZONE
TZID:America/New_York
END:VTIMEZONE
END:VCALENDAR
