BEGIN:VCALENDAR
PRODID:gcfv.georgia.gov
VERSION:2.0
CALSCALE:GREGORIAN
BEGIN:VEVENT
UID:dab5d3f2e503b74fb3dadc86928d40ec
DTSTAMP:20260424T235537Z
SUMMARY:FVIP Rule Update Committee Meeting
DESCRIPTION:​Draft Agenda\n\n9:00 AM - Welcome and Updates\n\n9:20 AM - S
 ubcommittee Reports & Discussion\n\nProgram Requirements and Class Require
 ments\n\n\n\n​12:00 PM - Lunch\n\n12:30 PM - Discussion Continued & Next
  Steps​\n\nPlease call GCFV for more details: 404-657-3412
URL:https://gcfv.georgia.gov/events/2017-02-02/fvip-rule-update-committee-m
 eeting
DTSTART;VALUE=DATE:20170202
DTEND;VALUE=DATE:20170203
LOCATION:Men Stopping Violence 2785 Lawrenceville Hwy Suite 112  Decatur\, 
 GA 30318 US
X-LIC-LOCATION:America/New_York
X-WR-TIMEZONE:America/New_York
END:VEVENT
BEGIN:VTIMEZONE
TZID:America/New_York
END:VTIMEZONE
END:VCALENDAR
