BEGIN:VCALENDAR
VERSION:2.0
PRODID:gcfv.georgia.gov
X-WR-TIMEZONE:America/New_York
BEGIN:VTIMEZONE
TZID:America/New_York
X-LIC-LOCATION:America/New_York
END:VTIMEZONE
BEGIN:VEVENT
UID:6161733ca4084
DTSTART;TZID=UTC:20170413T130000
SEQUENCE:0
TRANSP:OPAQUE
DTEND;TZID=UTC:20170413T203000
URL:https://gcfv.georgia.gov/events/2017-04-13/law-enforcement-training
LOCATION:Hall County Government Center 2875 Browns Bridge Road GAINESVILLE\
 , GA 30504
SUMMARY:Law Enforcement Training
CLASS:PUBLIC
DESCRIPTION:Training Topics: Physical Aggressor Identification\, Strangula
 tion\, Family Violence Dynamics\, Local Victim Services\n\nTarget Audience
 : Law Enforcement Officers\, Probation Officers\, Prosecutors\, Judges\, 
 Domestic Violence Advocates\, DFCS Staff\n\nPOST Credit: Officers will re
 ceive 6 hours of P.O.S.T. Certified Training on Family Violence.\n\nRegist
 er by April 5th: http://tinyurl.com/Hall2017\n\nSponsored by: Hall Count
 y Family Violence Task Force & Georgia Commission on Family Violence\n\nQu
 estions? Call the Georgia Commission on Family Violence: 404-657-3412
DTSTAMP:20211009T064724Z
END:VEVENT
END:VCALENDAR