BEGIN:VCALENDAR
PRODID:gcfv.georgia.gov
VERSION:2.0
CALSCALE:GREGORIAN
BEGIN:VEVENT
UID:84aca8b927ff2aa01b87ac0a920880b1
DTSTAMP:20260424T234756Z
SUMMARY:FVIP Rule Update Committee Meeting
DESCRIPTION:​Draft Agenda\n\n9:00 AM - Welcome and Updates\n\n9:20 AM - S
 ubcommittee Reports & Discussion\n\nProgram Certification Curriculum \n\
 n\n\n​12:00 PM - Lunch\n\n12:30 PM - Discussion Continued & Next Steps
 ​\n\nPlease call GCFV for more details: 404-657-3412
URL:https://gcfv.georgia.gov/events/2017-01-27/fvip-rule-update-committee-m
 eeting
DTSTART;VALUE=DATE:20170127
DTEND;VALUE=DATE:20170128
LOCATION:3150 Milton Martin Toyota Way  Gainesille\, GA US
X-LIC-LOCATION:America/New_York
X-WR-TIMEZONE:America/New_York
END:VEVENT
BEGIN:VTIMEZONE
TZID:America/New_York
END:VTIMEZONE
END:VCALENDAR
