BEGIN:VCALENDAR
PRODID:gcfv.georgia.gov
VERSION:2.0
CALSCALE:GREGORIAN
BEGIN:VEVENT
UID:60097a4efb486f2a36d02bbd63d12019
DTSTAMP:20260424T235537Z
SUMMARY:Webinar: Training on Strangulation Assault
DESCRIPTION:This webinar is offered at 10 AM\, 2 PM\, and 5 PM.Register: h
 ttps://attendee.gotowebinar.com/rt/8365191496534783233
URL:https://gcfv.georgia.gov/events/2017-01-31/webinar-training-strangulati
 on-assault
DTSTART;VALUE=DATE:20170131
DTEND;VALUE=DATE:20170201
X-LIC-LOCATION:America/New_York
X-WR-TIMEZONE:America/New_York
END:VEVENT
BEGIN:VTIMEZONE
TZID:America/New_York
END:VTIMEZONE
END:VCALENDAR
