BEGIN:VCALENDAR
PRODID:gcfv.georgia.gov
VERSION:2.0
CALSCALE:GREGORIAN
BEGIN:VEVENT
UID:5f700dd774c1f371bd405f1acb2548af
DTSTAMP:20260425T000359Z
SUMMARY:Counseling Abusers: An Introductory Training (Emerge)
DESCRIPTION:This course is intended for anyone working with families affect
 ed by domestic violence. Past participants include batterer intervention p
 rogram group leaders\, supervisors and administrators\, social workers\, v
 ictim advocates\, correctional staff\, psychologists\, violence prevention
  educators\, substance abuse counselors\, health care workers\, probation 
 and police officers\, clergy\, military personnel\, and program managers.
   Participants will learn the Emerge curriculum and how it compares to o
 ther models. The training is structured to be highly interactive\, includi
 ng several participant role plays. This interactive structure allows parti
 cipants to acquire and practice skills to be used in leading groups. For p
 articipants who work with victims and don't intend to lead groups\, this t
 raining is a primer on what happens in abuser intervention groups. \n\nTh
 is training has been approved by the Georgia Commission on Family Violenc
 e for 20 FVIP hours.\n\nMore information and registration
URL:https://gcfv.georgia.gov/events/2017-02-15/counseling-abusers-introduct
 ory-training-emerge
DTSTART;VALUE=DATE:20170215
DTEND;VALUE=DATE:20170218
LOCATION:630 Massachusetts Ave  Arlington\, MA 02476 US
X-LIC-LOCATION:America/New_York
X-WR-TIMEZONE:America/New_York
END:VEVENT
BEGIN:VTIMEZONE
TZID:America/New_York
END:VTIMEZONE
END:VCALENDAR
