BEGIN:VCALENDAR
PRODID:gcfv.georgia.gov
VERSION:2.0
CALSCALE:GREGORIAN
BEGIN:VEVENT
UID:f9aa2fc32930ead09757b4835d5eba8c
DTSTAMP:20260424T205710Z
SUMMARY:Family Violence in Georgia: A Comparative Analysis
DESCRIPTION:Have you ever wondered how your community’s response to famil
 y violence stacks up against other communities? A new report by the Georgi
 a Commission on Family Violence and a webinar will help you find those ans
 wers!\n\n\n\nJoin us October 21\, 2021 for an online overview of Family Vi
 olence in Georgia: A Comparative Analysis (2013-2017)\, which is planned f
 or release in late-September.  \n\n\n\nThe report and webinar will allow 
 stakeholders to understand family violence response in new ways\, using co
 mparisons between similarly populated geographic areas and an examination 
 of relationships between factors often present in reported incidents of fa
 mily violence\, such as the presence of Temporary Protective Orders (TPOs)
  and police action taken. An overview of family violence incidents and fat
 alities statewide will also be included.
URL:https://gcfv.georgia.gov/events/2021-10-21/fv-georgia
DTSTART;VALUE=DATE:20211021
DTEND;VALUE=DATE:20211022
X-LIC-LOCATION:America/New_York
X-WR-TIMEZONE:America/New_York
END:VEVENT
BEGIN:VTIMEZONE
TZID:America/New_York
END:VTIMEZONE
END:VCALENDAR
