BEGIN:VCALENDAR
PRODID:gcfv.georgia.gov
VERSION:2.0
CALSCALE:GREGORIAN
BEGIN:VEVENT
UID:060a532488e5e76dabedeb033c04542e
DTSTAMP:20260425T000359Z
SUMMARY:2021 Family Violence Law Updates & Emerging Issues (Afternoon Sessi
 on)
DESCRIPTION:Numerous recent law changes have a direct impact on family viol
 ence response in Georgia. Join the Georgia Commission on Family Violence f
 or a free one-hour law enforcement training and receive an overview of cha
 nges to the family violence act\, Temporary Protective Orders\, and relief
  available to victims of dating violence and stalking statewide.
URL:https://gcfv.georgia.gov/events/2021-10-26/2021-law-update-tuesday-pm
DTSTART;VALUE=DATE:20211026
DTEND;VALUE=DATE:20211027
X-LIC-LOCATION:America/New_York
X-WR-TIMEZONE:America/New_York
END:VEVENT
BEGIN:VTIMEZONE
TZID:America/New_York
END:VTIMEZONE
END:VCALENDAR
