BEGIN:VCALENDAR
PRODID:gcfv.georgia.gov
VERSION:2.0
CALSCALE:GREGORIAN
BEGIN:VEVENT
UID:75fae5798c385489a2c4ea7d79dbe96c
DTSTAMP:20260424T234755Z
SUMMARY:Brain 101: Understanding the Impact of Trauma on Brain Development
DESCRIPTION:This course will provide participants with foundational knowled
 ge about how adversity and trauma can impact brain development. Participan
 ts will also be introduced to brain architecture and early brain developme
 nt in children.\n\n3 hours of CEUs available for MSW (core)\, LPC & LMFT (
 related)\, POST & DECAL.\n\n\n\n\n\n\n\n\n\n\n\n\n\nThis training has been
  approved by the Georgia Commission on Family Violence for 3 FVIP hours.
 \n\nRegister: http://bit.ly/TCBr126
URL:https://gcfv.georgia.gov/events/2017-01-26/brain-101-understanding-impa
 ct-trauma-brain-development
DTSTART;VALUE=DATE:20170126
DTEND;VALUE=DATE:20170127
LOCATION:Georgia Industrial Children's Home 4690 Mumford Rd.  Macon\, GA 31
 210 US
X-LIC-LOCATION:America/New_York
X-WR-TIMEZONE:America/New_York
END:VEVENT
BEGIN:VTIMEZONE
TZID:America/New_York
END:VTIMEZONE
END:VCALENDAR
