BEGIN:VCALENDAR
PRODID:gcfv.georgia.gov
VERSION:2.0
CALSCALE:GREGORIAN
BEGIN:VEVENT
UID:4a977305786508bdfe685a8cfebd4091
DTSTAMP:20260424T235456Z
SUMMARY:Trauma 101: Understanding the Impact of Trauma on Children
DESCRIPTION:This course will provide participants with foundational knowled
 ge about child trauma and child traumatic stress. Participants will learn 
 how trauma affects children including the impact on child development. \n
 \n3 hours of CEUs available for MSW (core)\, LPC & LMFT (related)\, POST &
  DECAL.\n\nThis training has been approved by the Georgia Commission on F
 amily Violence for 3 FVIP hours.\n\n\n\n\n\n\n\n\n\n\n\n\n\nRegister: ht
 tp://bit.ly/TCTr126
URL:https://gcfv.georgia.gov/events/2017-01-26/trauma-101-understanding-imp
 act-trauma-children
DTSTART;VALUE=DATE:20170126
DTEND;VALUE=DATE:20170127
LOCATION:Georgia Industrial Children's Home 4690 Mumford Rd.  Macon\, GA 31
 210 US
X-LIC-LOCATION:America/New_York
X-WR-TIMEZONE:America/New_York
END:VEVENT
BEGIN:VTIMEZONE
TZID:America/New_York
END:VTIMEZONE
END:VCALENDAR
