BEGIN:VCALENDAR
PRODID:gcfv.georgia.gov
VERSION:2.0
CALSCALE:GREGORIAN
BEGIN:VEVENT
UID:b9f5cffb3dfc839bf47055e77be00f5e
DTSTAMP:20260424T235456Z
SUMMARY:Trauma 101: Understanding the Impact of Trauma on Children
DESCRIPTION:Course Description: This course will provide participants wit
 h foundational knowledge about child trauma and child traumatic stress. Pa
 rticipants will learn how trauma affects children including the impact on 
 child development.\n\nCEU’s available for MSW\, LPC\, LMFT\, POST & DECA
 L.\n\nThis training has been approved by the Georgia Commission on Family
  Violence for 3 FVIP hours.\n\nRegister: http://bit.ly/DecaturTrauma
URL:https://gcfv.georgia.gov/events/2017-01-25/trauma-101-understanding-imp
 act-trauma-children
DTSTART;VALUE=DATE:20170125
DTEND;VALUE=DATE:20170126
X-LIC-LOCATION:America/New_York
X-WR-TIMEZONE:America/New_York
END:VEVENT
BEGIN:VTIMEZONE
TZID:America/New_York
END:VTIMEZONE
END:VCALENDAR
