BEGIN:VCALENDAR
VERSION:2.0
PRODID:gcfv.georgia.gov
X-WR-TIMEZONE:America/New_York
BEGIN:VTIMEZONE
TZID:America/New_York
X-LIC-LOCATION:America/New_York
END:VTIMEZONE
BEGIN:VEVENT
UID:6156b7110e661
DTSTART;TZID=UTC:20210422T050000
SEQUENCE:0
TRANSP:OPAQUE
DTEND;TZID=UTC:20210422T060000
URL:https://gcfv.georgia.gov/events/2021-04-22/ncvrw-ceremony
SUMMARY:National Crime Victims' Rights Week Ceremony
CLASS:PUBLIC
DESCRIPTION:The Criminal Justice Coordinating Council (CJCC) is hosting a c
 eremony in honor of National Crime Victims' Rights Week and GCFV stakehold
 ers and the community at large are invited to attend the virtual program.
DTSTAMP:20211001T032153Z
END:VEVENT
END:VCALENDAR