BEGIN:VCALENDAR
PRODID:gcfv.georgia.gov
VERSION:2.0
CALSCALE:GREGORIAN
BEGIN:VEVENT
UID:919e3cbd5b8e2d61843b76279c1ba1cc
DTSTAMP:20260425T013054Z
SUMMARY:Family Violence Fatality Review Verification Training
DESCRIPTION:The Georgia Commission on Family Violence is hosting a webinar
  featuring Fatality Review Coordinator\, Carolynn Brooks\, who will provid
 e a presentation on the purposes of gathering family violence death data\,
  an overview of the important role that advocates play in gathering this d
 ata\, and review the instructions for completing family violence fatality 
 verification. The training will feature a demonstration of the tracking fo
 rms and detailed instructions for completing the verification of domestic-
 violence related deaths that have occurred in Georgia.\n\n\n\nThe trainin
 g is open to all parties interested\, but the target audience are Execut
 ive Directors of Family Violence Programs\, Victim Witness Program Directo
 rs\, and advocates who have been identified as a liaison by their Director
  for purposes of family violence fatality verification with GCFV.
URL:https://gcfv.georgia.gov/events/2021-04-22/fatality-verification
DTSTART;VALUE=DATE:20210422
DTEND;VALUE=DATE:20210423
X-LIC-LOCATION:America/New_York
X-WR-TIMEZONE:America/New_York
END:VEVENT
BEGIN:VTIMEZONE
TZID:America/New_York
END:VTIMEZONE
END:VCALENDAR
