BEGIN:VCALENDAR
VERSION:2.0
PRODID:gcfv.georgia.gov
X-WR-TIMEZONE:America/New_York
BEGIN:VTIMEZONE
TZID:America/New_York
X-LIC-LOCATION:America/New_York
END:VTIMEZONE
BEGIN:VEVENT
UID:6156b72578202
DTSTART;TZID=UTC:20210412T160000
SEQUENCE:0
TRANSP:OPAQUE
DTEND;TZID=UTC:20210412T170000
URL:https://gcfv.georgia.gov/events/2021-04-12/what-difference-between-fvip
 -facilitator-certification-and-fvip-provider
SUMMARY:What is the difference between FVIP Facilitator Certification and F
 VIP Provider Certification? 
CLASS:PUBLIC
DTSTAMP:20211001T032213Z
END:VEVENT
END:VCALENDAR