BEGIN:VCALENDAR
VERSION:2.0
PRODID:gcfv.georgia.gov
X-WR-TIMEZONE:America/New_York
BEGIN:VTIMEZONE
TZID:America/New_York
X-LIC-LOCATION:America/New_York
END:VTIMEZONE
BEGIN:VEVENT
UID:6156b6f419738
DTSTART;TZID=UTC:20210423T190000
SEQUENCE:0
TRANSP:OPAQUE
DTEND;TZID=UTC:20210423T210000
URL:https://gcfv.georgia.gov/events/2021-04-23/woman-abuse-intoxication-did
 nt-cause-it-and-sobriety-wont-cure-it
SUMMARY:Woman Abuse: Intoxication Didn't Cause It and Sobriety Won't Cure I
 t
CLASS:PUBLIC
DTSTAMP:20211001T032124Z
END:VEVENT
END:VCALENDAR