BEGIN:VCALENDAR
VERSION:2.0
PRODID:gcfv.georgia.gov
X-WR-TIMEZONE:America/New_York
BEGIN:VTIMEZONE
TZID:America/New_York
X-LIC-LOCATION:America/New_York
END:VTIMEZONE
BEGIN:VEVENT
UID:6156b73a5f217
DTSTART;TZID=UTC:20210409T190000
SEQUENCE:0
TRANSP:OPAQUE
DTEND;TZID=UTC:20210409T210000
URL:https://gcfv.georgia.gov/events/2021-04-09/developing-comprehensive-sel
 f-paced-stages-model-bip-phase-model-and-integrated
SUMMARY:Developing a comprehensive self paced stages model for BIP: a phase
  model and an integrated model
CLASS:PUBLIC
DTSTAMP:20211001T032234Z
END:VEVENT
END:VCALENDAR