BEGIN:VCALENDAR
VERSION:2.0
PRODID:gcfv.georgia.gov
X-WR-TIMEZONE:America/New_York
BEGIN:VTIMEZONE
TZID:America/New_York
X-LIC-LOCATION:America/New_York
END:VTIMEZONE
BEGIN:VEVENT
UID:609a21ba7ee49
DTSTART;TZID=UTC:20211116T140000
SEQUENCE:0
TRANSP:OPAQUE
DTEND;TZID=UTC:20211116T213000
URL:https://gcfv.georgia.gov/events/2021-11-16/psychological-abuse-intimate
 -partner-relationships-cloned
SUMMARY:Psychological Abuse in Intimate Partner Relationships  - Cloned
CLASS:PUBLIC
DTSTAMP:20210511T021834Z
END:VEVENT
END:VCALENDAR