BEGIN:VCALENDAR
VERSION:2.0
PRODID:gcfv.georgia.gov
X-WR-TIMEZONE:America/New_York
BEGIN:VTIMEZONE
TZID:America/New_York
X-LIC-LOCATION:America/New_York
END:VTIMEZONE
BEGIN:VEVENT
UID:609a21b4533cc
DTSTART;TZID=UTC:20211103T130000
SEQUENCE:0
TRANSP:OPAQUE
DTEND;TZID=UTC:20211103T203000
URL:https://gcfv.georgia.gov/events/2021-11-03/batterers-are-not-born-they-
 are-socialized
SUMMARY:Batterers Are Not Born They Are Socialized
CLASS:PUBLIC
DTSTAMP:20210511T021828Z
END:VEVENT
END:VCALENDAR