BEGIN:VCALENDAR
PRODID:gcfv.georgia.gov
VERSION:2.0
CALSCALE:GREGORIAN
BEGIN:VEVENT
UID:f5c03a718ab932fe60dcbc208bf61e3a
DTSTAMP:20260424T235456Z
SUMMARY:Stop Violence Against Women Day
DESCRIPTION:Registration is now closed. If you are a legislator who would l
 ike to attend\, please call our office at 404-657-3412. Thanks!
URL:https://gcfv.georgia.gov/events/2017-02-08/stop-violence-against-women-
 day
DTSTART;VALUE=DATE:20170208
DTEND;VALUE=DATE:20170209
LOCATION:201 Washington Street SW  Atlanta\, GA 30303 US
X-LIC-LOCATION:America/New_York
X-WR-TIMEZONE:America/New_York
END:VEVENT
BEGIN:VTIMEZONE
TZID:America/New_York
END:VTIMEZONE
END:VCALENDAR
