BEGIN:VCALENDAR
PRODID:gcfv.georgia.gov
VERSION:2.0
CALSCALE:GREGORIAN
BEGIN:VEVENT
UID:7be3ba6b2b30b611f0c6736faa236bed
DTSTAMP:20260425T000359Z
SUMMARY:Stop Violence Against Women Day 2020
URL:https://gcfv.georgia.gov/events/2020-02-04/stop-violence-against-women-
 day-2020
DTSTART;VALUE=DATE:20200204
DTEND;VALUE=DATE:20200205
LOCATION:201 Washington Street SW  Atlanta\, GA 30303 US
X-LIC-LOCATION:America/New_York
X-WR-TIMEZONE:America/New_York
END:VEVENT
BEGIN:VTIMEZONE
TZID:America/New_York
END:VTIMEZONE
END:VCALENDAR
