BEGIN:VCALENDAR
VERSION:2.0
PRODID:gcfv.georgia.gov
X-WR-TIMEZONE:America/New_York
BEGIN:VTIMEZONE
TZID:America/New_York
X-LIC-LOCATION:America/New_York
END:VTIMEZONE
BEGIN:VEVENT
UID:609d87d178fc4
DTSTART;TZID=UTC:20200228T143000
SEQUENCE:0
TRANSP:OPAQUE
DTEND;TZID=UTC:20200228T213000
URL:https://gcfv.georgia.gov/events/2020-02-28/advanced-facilitation-traini
 ng
LOCATION:River Edge Behavioral Health\, Training Room A 175 Emery Highway M
 ACON\, GA 31217
SUMMARY:Advanced Facilitation & Group Management Skills Training
CLASS:PUBLIC
DESCRIPTION:Family Violence Intervention Programs face unique facilitation 
 challenges. These challenges potentially deter from the educational benefi
 t of class and derail the accountability process. Ensuring accountability 
 within class requires balancing support for men and doing our best to ensu
 re victim safety. Often men enter our classes with uncertainty and sometim
 es outright resistance. Some of these men may attempt to sabotage or manip
 ulate the class structure. In this one day training\, Men Stopping Violenc
 e will introduce facilitation and group management skills proven to addres
 s facilitation challenges\, develop a productive class culture\, and model
  conflict resolution skills to class participants. \n\n\n\nCEUs: This tra
 ining has been approved by the Commission for 6 FVIP CE hours. \n\n\n\n
 Registration: Seating is limited. Priority will be given to approved FVIP
  facilitators in Georgia and FVIP facilitators in training in Georgia. Reg
 istration will not be complete until we receive a check from you in the co
 rrect amount owed ($25 for Georgia facilitators and facilitators in train
 ing\, $50 for all others).\n\nRegister now
DTSTAMP:20210513T161057Z
END:VEVENT
END:VCALENDAR