BEGIN:VCALENDAR
PRODID:gcfv.georgia.gov
VERSION:2.0
CALSCALE:GREGORIAN
BEGIN:VEVENT
UID:10c7e46475b91ab0a752a8655909e892
DTSTAMP:20260424T232952Z
SUMMARY:Concept Mapping: Engaging Urban Men to Identify Intervention Points
  for Partner Violence Perpetration Webinar
DESCRIPTION:Concept Mapping: Engaging Urban Men to Identify Intervention Po
 ints for Partner Violence Perpetration\n\n\n\nTuesday\, January 28\, 2020\
 , 2:00-3:30 PM EST\, Registration is $10\n\n\n\nPresented By: Charvonne N.
  Holliday\, PhD\, MPH\n\n\n\nIntimate Partner Violence (IPV) is a signific
 ant health concern rooted in community experiences and other social determ
 inants. In this webinar\, we will discuss the social determinants of partn
 er violence perpetration and related social stress among urban men and des
 cribe a participatory research method—concept mapping. Charvonne Hollida
 y is an assistant professor in the Department of Population\, Family and R
 eproductive Health at Johns Hopkins University’s Bloomberg School of Pub
 lic Health. She is committed to improving women’s health by understandin
 g and addressing disparities in intimate partner violence (IPV) and reprod
 uctive coercion. Her research engages the perspectives of both victims and
  perpetrators of IPV. Register here.\n\n\n\nThis webinar is approved for 
 1 FVIP hour. You must attend the live version of the webinar for credit.
URL:https://gcfv.georgia.gov/events/2020-01-28/concept-mapping-webinar
DTSTART;VALUE=DATE:20200128
DTEND;VALUE=DATE:20200129
X-LIC-LOCATION:America/New_York
X-WR-TIMEZONE:America/New_York
END:VEVENT
BEGIN:VTIMEZONE
TZID:America/New_York
END:VTIMEZONE
END:VCALENDAR
