BEGIN:VCALENDAR
PRODID:gcfv.georgia.gov
VERSION:2.0
CALSCALE:GREGORIAN
BEGIN:VEVENT
UID:0209d83cd2c774c8ac5964c6fb0b409d
DTSTAMP:20260424T234755Z
SUMMARY:Because We Have Daughters Facilitator Training
DESCRIPTION:Men Stopping Violence has developed a comprehensive training on
  how to facilitate and administer the Because We Have Daughters (BWHD) p
 rogram.\n\nThis training has been approved by the Georgia Commission on F
 amily Violence for 12 FVIP hours.\n\nVisit Men Stopping Violence for mo
 re information. 
URL:https://gcfv.georgia.gov/events/2017-01-27/because-we-have-daughters-fa
 cilitator-training
DTSTART;VALUE=DATE:20170127
DTEND;VALUE=DATE:20170129
X-LIC-LOCATION:America/New_York
X-WR-TIMEZONE:America/New_York
END:VEVENT
BEGIN:VTIMEZONE
TZID:America/New_York
END:VTIMEZONE
END:VCALENDAR
