BEGIN:VCALENDAR
PRODID:gcfv.georgia.gov
VERSION:2.0
CALSCALE:GREGORIAN
BEGIN:VEVENT
UID:023552f0d7b0ef35859ee595b23fef3b
DTSTAMP:20260424T235456Z
SUMMARY:Men at Work: Building Safe Communities Training (MSV)
DESCRIPTION:Men At Work: Building Safe Communities is an innovative and mu
 lti-disciplinary curriculum that: explores male violence against women in 
 an accessible manner\, challenges men to take responsibility for their act
 ions\, and provides the educational experience necessary to become allies 
 in ending violence against women. In this three-day training\, MSV will pr
 ovide participants with the knowledge and tools needed to implement Men At
  Work.\n\nThis training has been approved by the Georgia Commission on Fam
 ily Violence for 20 FVIP hours.\n\nVisit Men Stopping Violence for more 
 information. 
URL:https://gcfv.georgia.gov/events/2017-02-22/men-work-building-safe-commu
 nities-training-msv
DTSTART;VALUE=DATE:20170222
DTEND;VALUE=DATE:20170225
X-LIC-LOCATION:America/New_York
X-WR-TIMEZONE:America/New_York
END:VEVENT
BEGIN:VTIMEZONE
TZID:America/New_York
END:VTIMEZONE
END:VCALENDAR
