BEGIN:VCALENDAR
PRODID:gcfv.georgia.gov
VERSION:2.0
CALSCALE:GREGORIAN
BEGIN:VEVENT
UID:6d9a5d54a77a79c7c6be1ad7026bfcb1
DTSTAMP:20260424T232059Z
SUMMARY:The Nuts and Bolts of Conducting a Successful Fatality Review
DESCRIPTION:Fatality Review Team Training: The Nuts and Bolts of Conducting
  a Successful Fatality Review\n\nThe Georgia Domestic Violence Fatality Re
 view Project is hosting a free day-and-a-half training to provide Fatality
  Review Teams with the necessary tools for conducting successful reviews.D
 ay 1 (full day): On day one we will cover the fatality review methodology
  including\; team formation\, case selection\, information collection and 
 chronology development\, trauma informed interview techniques\, and develo
 pment and implementation of recommendations.Day 2 (half day): On day two 
 we will present information on the issue of familicide\, defined as the ki
 lling of a current or former spouse or intimate partner and one or more of
  their children\, which is often (but not always) followed by the suicide 
 of the perpetrator. We will include special considerations when reviewing 
 a familicide and conduct an interactive mock review of a familicide case.W
 ho should attend: While all interested Family Violence Task Forces and Fa
 tality Review Teams are invited to attend\, we would like to especially en
 courage representation from the following counties where a familicide has 
 occurred since 2010: Butts\, Cherokee\, DeKalb\, Douglas\, Early\, Forsyth
 \, Fulton\, Muscogee\, Newton\, Paulding\, Spalding\, Troup and Whitfield.
 Continuing Education Units: This training has been approved for continuin
 g education units (CEUs) for state-certified domestic violence programs by
  the Criminal Justice Coordinating Council. Please note this is the only t
 ype of continuing education credits available for this training.\n\n **RE
 GISTRATION DEADLINE IS MARCH 16\, 2016**Please follow this link to comple
 te your registration https://www.surveymonkey.com/r/C72KPLM We encourage
  each Family Violence Task Force/Fatality Review Team to send 3 representa
 tives. If you have more than 3 people who would like to attend\, please e
 mail their names to ttabb@gcadv.org and they will be placed on a waiting
  list. 
URL:https://gcfv.georgia.gov/events/2016-03-23/nuts-and-bolts-conducting-su
 ccessful-fatality-review
DTSTART;VALUE=DATE:20160323
DTEND;VALUE=DATE:20160325
LOCATION:4156 LaVista Road  Tucker\, GA 30084 US
X-LIC-LOCATION:America/New_York
X-WR-TIMEZONE:America/New_York
END:VEVENT
BEGIN:VTIMEZONE
TZID:America/New_York
END:VTIMEZONE
END:VCALENDAR
